
BEGIN:VCALENDAR
VERSION:2.0
PRODID:-//Monterey County Child Abuse Prevention Council - ECPv6.14.0//NONSGML v1.0//EN
CALSCALE:GREGORIAN
METHOD:PUBLISH
X-WR-CALNAME:Monterey County Child Abuse Prevention Council
X-ORIGINAL-URL:https://capcmonterey.org
X-WR-CALDESC:Events for Monterey County Child Abuse Prevention Council
REFRESH-INTERVAL;VALUE=DURATION:PT1H
X-Robots-Tag:noindex
X-PUBLISHED-TTL:PT1H
BEGIN:VTIMEZONE
TZID:America/Los_Angeles
BEGIN:DAYLIGHT
TZOFFSETFROM:-0800
TZOFFSETTO:-0700
TZNAME:PDT
DTSTART:20260308T100000
END:DAYLIGHT
BEGIN:STANDARD
TZOFFSETFROM:-0700
TZOFFSETTO:-0800
TZNAME:PST
DTSTART:20261101T090000
END:STANDARD
END:VTIMEZONE
BEGIN:VEVENT
DTSTART;TZID=America/Los_Angeles:20260421T090000
DTEND;TZID=America/Los_Angeles:20260421T120000
DTSTAMP:20260423T030446
CREATED:20251112T001543Z
LAST-MODIFIED:20251112T001606Z
UID:1789-1776762000-1776772800@capcmonterey.org
SUMMARY:In Person Mandated Reporter Training in Salinas for April 21 (Spanish Only)
DESCRIPTION:Offered by CAPC and Family and Children’s Services   \nIn this training we will \n\nDescribe your role & responsibility as a mandated reporter of child abuse and neglect.\nEducate you on different types of child abuse and neglect.\nProvide clarity on how and when to make a report.\nOutline what information is needed when making a report.\nExplain what happens to your report after it is made.\nSummarize the Child Abuse Neglect and Reporting Act (CANRA).\n\nDate: April 21\, 2026 \nFrom: 9:00 am – 12:00 pm on one of the following options \nLocation: 1000 South Main Room 110 Salinas CA \nYour successful registration is secure once submitted. There will not be a follow-up e-mail confirming your participation. \nRegister Below\n\n\n                \n                        \n                            Mandated Reporter Training Sign Up Form for April 21\n                             \n                         \n \n                        Name(Required)\n                            \n                            \n                                                    \n                                                    First\n                                                \n                            \n                            \n                                                    \n                                                    Last\n                                                \n                            \n                        Organization(Required)Email(Required)\n                            \n                        Phone(Required)CAPTCHA\n          \n            \n            \n            \n            \n            \n            \n            \n            \n            \n            \n            \n            \n            \n        \n                        Δ
URL:https://capcmonterey.org/event/in-person-mandated-reporter-training-in-salinas-for-april-21-spanish-only/
CATEGORIES:Mandated Reporter Training
END:VEVENT
END:VCALENDAR