
BEGIN:VCALENDAR
VERSION:2.0
PRODID:-//Monterey County Child Abuse Prevention Council - ECPv6.14.0//NONSGML v1.0//EN
CALSCALE:GREGORIAN
METHOD:PUBLISH
X-WR-CALNAME:Monterey County Child Abuse Prevention Council
X-ORIGINAL-URL:https://capcmonterey.org
X-WR-CALDESC:Events for Monterey County Child Abuse Prevention Council
REFRESH-INTERVAL;VALUE=DURATION:PT1H
X-Robots-Tag:noindex
X-PUBLISHED-TTL:PT1H
BEGIN:VTIMEZONE
TZID:America/Los_Angeles
BEGIN:DAYLIGHT
TZOFFSETFROM:-0800
TZOFFSETTO:-0700
TZNAME:PDT
DTSTART:20210314T100000
END:DAYLIGHT
BEGIN:STANDARD
TZOFFSETFROM:-0700
TZOFFSETTO:-0800
TZNAME:PST
DTSTART:20211107T090000
END:STANDARD
BEGIN:DAYLIGHT
TZOFFSETFROM:-0800
TZOFFSETTO:-0700
TZNAME:PDT
DTSTART:20220313T100000
END:DAYLIGHT
BEGIN:STANDARD
TZOFFSETFROM:-0700
TZOFFSETTO:-0800
TZNAME:PST
DTSTART:20221106T090000
END:STANDARD
BEGIN:DAYLIGHT
TZOFFSETFROM:-0800
TZOFFSETTO:-0700
TZNAME:PDT
DTSTART:20230312T100000
END:DAYLIGHT
BEGIN:STANDARD
TZOFFSETFROM:-0700
TZOFFSETTO:-0800
TZNAME:PST
DTSTART:20231105T090000
END:STANDARD
BEGIN:DAYLIGHT
TZOFFSETFROM:-0800
TZOFFSETTO:-0700
TZNAME:PDT
DTSTART:20240310T100000
END:DAYLIGHT
BEGIN:STANDARD
TZOFFSETFROM:-0700
TZOFFSETTO:-0800
TZNAME:PST
DTSTART:20241103T090000
END:STANDARD
BEGIN:DAYLIGHT
TZOFFSETFROM:-0800
TZOFFSETTO:-0700
TZNAME:PDT
DTSTART:20250309T100000
END:DAYLIGHT
BEGIN:STANDARD
TZOFFSETFROM:-0700
TZOFFSETTO:-0800
TZNAME:PST
DTSTART:20251102T090000
END:STANDARD
END:VTIMEZONE
BEGIN:VEVENT
DTSTART;TZID=America/Los_Angeles:20251021T090000
DTEND;TZID=America/Los_Angeles:20251021T120000
DTSTAMP:20260423T153415
CREATED:20241212T212451Z
LAST-MODIFIED:20250103T194640Z
UID:1470-1761037200-1761048000@capcmonterey.org
SUMMARY:In Person Mandated Reporter Training in Salinas for Oct. 21
DESCRIPTION:Offered by CAPC and Family and Children’s Services   \nIn this training we will \n\nDescribe your role & responsibility as a mandated reporter of child abuse and neglect.\nEducate you on different types of child abuse and neglect.\nProvide clarity on how and when to make a report.\nOutline what information is needed when making a report.\nExplain what happens to your report after it is made.\nSummarize the Child Abuse Neglect and Reporting Act (CANRA).\n\nDate: October 21\, 2025 \nFrom: 9:00 am – 12:00 pm on one of the following options \nLocation: 1000 South Main Room 110 Salinas CA \nYour successful registration is secure once submitted. There will not be a follow-up e-mail confirming your participation. \nRegister Below
URL:https://capcmonterey.org/event/in-person-mandated-reporter-training-in-salinas-for-oct-21/
CATEGORIES:Mandated Reporter Training
END:VEVENT
BEGIN:VEVENT
DTSTART;TZID=America/Los_Angeles:20250819T090000
DTEND;TZID=America/Los_Angeles:20250819T120000
DTSTAMP:20260423T153415
CREATED:20241212T212218Z
LAST-MODIFIED:20250813T212827Z
UID:1468-1755594000-1755604800@capcmonterey.org
SUMMARY:In Person Mandated Reporter Training in Salinas for Aug. 19
DESCRIPTION:Offered by CAPC and Family and Children’s Services   \nIn this training we will \n\nDescribe your role & responsibility as a mandated reporter of child abuse and neglect.\nEducate you on different types of child abuse and neglect.\nProvide clarity on how and when to make a report.\nOutline what information is needed when making a report.\nExplain what happens to your report after it is made.\nSummarize the Child Abuse Neglect and Reporting Act (CANRA).\n\nDate: August 19\, 2025 \nFrom: 9:00 am – 12:00 pm on one of the following options \nLocation: 1000 South Main Room 110 Salinas CA \n\nThis event is full. To be placed on the waiting list\, please email capc@countyofmonterey.org.
URL:https://capcmonterey.org/event/in-person-mandated-reporter-training-in-salinas-for-aug-19/
CATEGORIES:Mandated Reporter Training
END:VEVENT
BEGIN:VEVENT
DTSTART;TZID=America/Los_Angeles:20250715T090000
DTEND;TZID=America/Los_Angeles:20250715T120000
DTSTAMP:20260423T153415
CREATED:20240412T222607Z
LAST-MODIFIED:20250103T194743Z
UID:1169-1752570000-1752580800@capcmonterey.org
SUMMARY:In Person Mandated Reporter Training in Salinas for July 15
DESCRIPTION:Offered by CAPC and Family and Children’s Services   \nIn this training we will \n\nDescribe your role & responsibility as a mandated reporter of child abuse and neglect.\nEducate you on different types of child abuse and neglect.\nProvide clarity on how and when to make a report.\nOutline what information is needed when making a report.\nExplain what happens to your report after it is made.\nSummarize the Child Abuse Neglect and Reporting Act (CANRA).\n\nDate: July 15\, 2025 \nFrom: 9:00 am – 12:00 pm on one of the following options \nLocation: 1000 South Main Room 110 Salinas CA \nYour successful registration is secure once submitted. There will not be a follow-up e-mail confirming your participation. \nRegister Below
URL:https://capcmonterey.org/event/in-person-mandated-reporter-training-in-salinas-for-july-15/
CATEGORIES:Mandated Reporter Training
END:VEVENT
BEGIN:VEVENT
DTSTART;TZID=America/Los_Angeles:20250617T090000
DTEND;TZID=America/Los_Angeles:20250617T120000
DTSTAMP:20260423T153415
CREATED:20240412T224222Z
LAST-MODIFIED:20250103T194815Z
UID:1179-1750150800-1750161600@capcmonterey.org
SUMMARY:In Person Mandated Reporter Training in Salinas for June 17 (Spanish Only)
DESCRIPTION:Offered by CAPC and Family and Children’s Services   \nIn this training we will \n\nDescribe your role & responsibility as a mandated reporter of child abuse and neglect.\nEducate you on different types of child abuse and neglect.\nProvide clarity on how and when to make a report.\nOutline what information is needed when making a report.\nExplain what happens to your report after it is made.\nSummarize the Child Abuse Neglect and Reporting Act (CANRA).\n\nDate: June 17\, 2025 \nFrom: 9:00 am – 12:00 pm on one of the following options \nLocation: 1000 South Main Room 110 Salinas CA \nYour successful registration is secure once submitted. There will not be a follow-up e-mail confirming your participation. \nRegister Below
URL:https://capcmonterey.org/event/in-person-mandated-reporter-training-in-salinas-for-june-17/
CATEGORIES:Mandated Reporter Training
END:VEVENT
BEGIN:VEVENT
DTSTART;TZID=America/Los_Angeles:20250419T210000
DTEND;TZID=America/Los_Angeles:20250419T210000
DTSTAMP:20260423T153415
CREATED:20250324T191650Z
LAST-MODIFIED:20250324T192747Z
UID:1588-1745096400-1745096400@capcmonterey.org
SUMMARY:CHILD ABUSE PREVENTION COUNCIL INVITES YOU TO THEIR EVENT "LET'S TALK"
DESCRIPTION:“All parents are welcome\, this event will be conducted in Spanish “ \nEducational workshops for parents & guardians. \nTOPICS \n\nSMART TECH: “Social Media and Technology Awareness.”\nSOCIAL MEDIA SAFETY. Parent Education on Social Media and Safety.\nFAMILIAS ADELANTE: Developing skills and tools that strengthen resilience\, communication\, and success in American culture.\n\nRegistration is required and Space is limited! \nDate: April 19\, 2025 \nTime: 9:00 pm – 1:00 pm \nLocation:\nNorth County Recreation and Park District\n11261 Crane Street\,\nCastroville CA 95012 \nTelephone: (831) 633-3084
URL:https://capcmonterey.org/event/child-abuse-prevention-council-invites-you-to-their-event-lets-talk/
END:VEVENT
BEGIN:VEVENT
DTSTART;TZID=America/Los_Angeles:20250415T090000
DTEND;TZID=America/Los_Angeles:20250415T120000
DTSTAMP:20260423T153415
CREATED:20240412T224813Z
LAST-MODIFIED:20250103T194846Z
UID:1183-1744707600-1744718400@capcmonterey.org
SUMMARY:In Person Mandated Reporter Training in Salinas for April 15
DESCRIPTION:Offered by CAPC and Family and Children’s Services   \nIn this training we will \n\nDescribe your role & responsibility as a mandated reporter of child abuse and neglect.\nEducate you on different types of child abuse and neglect.\nProvide clarity on how and when to make a report.\nOutline what information is needed when making a report.\nExplain what happens to your report after it is made.\nSummarize the Child Abuse Neglect and Reporting Act (CANRA).\n\nDate: April 15\, 2025 \nFrom: 9:00 am – 12:00 pm on one of the following options \nLocation: 1000 South Main Room 110 Salinas CA \nYour successful registration is secure once submitted. There will not be a follow-up e-mail confirming your participation. \nRegister Below
URL:https://capcmonterey.org/event/in-person-mandated-reporter-training-in-salinas-for-april-15/
CATEGORIES:Mandated Reporter Training
END:VEVENT
BEGIN:VEVENT
DTSTART;TZID=America/Los_Angeles:20250409T160000
DTEND;TZID=America/Los_Angeles:20250409T200000
DTSTAMP:20260423T153415
CREATED:20250313T153540Z
LAST-MODIFIED:20250313T153609Z
UID:1573-1744214400-1744228800@capcmonterey.org
SUMMARY:EL CONCILIO PARA LA PREVENCIÓN DEL ABUSO INFANTIL DEL CONDADO DE MONTEREY\, LE INVITA AL EVENTO: "HABLEMOS"
DESCRIPTION:“Inteligencia Emocional: “La Clave para Combatir el Acoso y Fomentar Relaciones Saludables” \n“Domina Tu Coraje: Estrategias Efectivas para Adultos y Niños” \nTodos los padres son bienvenidos\, este evento se conducirá en Español\nEs necesario REGISTRARSE ¡CUPO LIMITADO! \nFecha: 9 de Abril\, 2025 \nHora: 4:00 pm – 8:00 pm \nUbicación:\nCentro de Recursos de Alisal\n1441 Del Monte Ave.\nSalinas\, CA 93905 \nTeléfono: (831) 775-4500
URL:https://capcmonterey.org/event/el-concilio-para-la-prevencion-del-abuso-infantil-del-condado-de-monterey-le-invita-al-evento-hablemos/
END:VEVENT
BEGIN:VEVENT
DTSTART;TZID=America/Los_Angeles:20250218T090000
DTEND;TZID=America/Los_Angeles:20250218T120000
DTSTAMP:20260423T153415
CREATED:20241211T235025Z
LAST-MODIFIED:20250103T194922Z
UID:1185-1739869200-1739880000@capcmonterey.org
SUMMARY:In Person Mandated Reporter Training in Salinas for Feb. 18
DESCRIPTION:Offered by CAPC and Family and Children’s Services   \nIn this training we will \n\nDescribe your role & responsibility as a mandated reporter of child abuse and neglect.\nEducate you on different types of child abuse and neglect.\nProvide clarity on how and when to make a report.\nOutline what information is needed when making a report.\nExplain what happens to your report after it is made.\nSummarize the Child Abuse Neglect and Reporting Act (CANRA).\n\nDate: February 18\, 2025 \nFrom: 9:00 am – 12:00 pm on one of the following options \nLocation: 1000 South Main Room 110 Salinas CA \nYour successful registration is secure once submitted. There will not be a follow-up e-mail confirming your participation. \nRegister Below
URL:https://capcmonterey.org/event/in-person-mandated-reporter-training-in-salinas-for-feb-18/
CATEGORIES:Mandated Reporter Training
END:VEVENT
BEGIN:VEVENT
DTSTART;TZID=America/Los_Angeles:20240510T090000
DTEND;TZID=America/Los_Angeles:20240510T120000
DTSTAMP:20260423T153415
CREATED:20240223T230010Z
LAST-MODIFIED:20240308T194945Z
UID:1152-1715331600-1715342400@capcmonterey.org
SUMMARY:Child Trauma Response In-Person Training
DESCRIPTION:Individuals and groups working in the Child Trauma Response domain are exposed to trauma daily. This exposure often goes unprocessed or unexplored by both staff and organizational leadership. The impact of this secondary traumatic exposure often leads to a deterioration in the quality of care provided to clients and the effectiveness of the team. Therefore\, individuals working in such environments must be allowed to discuss their feelings and emotions regularly and consistently concerning the work they do. \nDuring this impactful in-person training we will also discuss how best to access up to three (3) mentoring/coaching calls delivered via video conferencing for relevant participants to enhance your skills. \nAbout the Speaker: Al Killen-Harvey\, an experienced Licensed Clinical Social Worker (LCSW) with over three decades of experience in the field\, is the president and co-founder of the Harvey Institute and a Lead Trainer at the Chadwick Center-Rady Children’s Hospital. Mr. Harvey is a renowned expert in consultation and training on various topics\, including Secondary Trauma\, LGBTQ issues\, Sexual Health\, Male Victims of Sexual Abuse\, and Trauma Treatment. Additionally\, he is registered with the California Board of Behavioral Sciences to provide Certified Educational Units (CEU’s) on a variety of topics\, including the mandated Clinical Supervision Training for LCSWs and MFTs. \nWhen: May 10\, 2024 \nTime: 9:00 to noon \nAddress: Monterey County DSS- Veteran’s Services Center\n2620 1st Avenue Marina\, CA 93933\n  (On site parking) \nPhone: (831)769-8784 \nREGISTER BELOW\n\n\n                 \n \n                        Name(Required)\n                            \n                            \n                                                    \n                                                    First\n                                                \n                            \n                            \n                                                    \n                                                    Last\n                                                \n                            \n                        Title(Required)Email(Required)\n                            \n                        Contact Phone(Required)Type of Member(Required)MDT member or presenterCDRT member or presenterBothOtherOther(Required)Select Date(Required)April 19May 10BothCAPTCHA\n          \n            \n            \n            \n            \n            \n            \n            \n            \n            \n            \n            \n            \n            \n        \n                        Δ
URL:https://capcmonterey.org/event/child-trauma-response-in-person-training/
CATEGORIES:Community Training
END:VEVENT
BEGIN:VEVENT
DTSTART;TZID=America/Los_Angeles:20240419T090000
DTEND;TZID=America/Los_Angeles:20240419T120000
DTSTAMP:20260423T153415
CREATED:20240223T225411Z
LAST-MODIFIED:20240416T181016Z
UID:1148-1713517200-1713528000@capcmonterey.org
SUMMARY:Child Trauma Response In-Person Training-April 19
DESCRIPTION:Individuals and groups working in the Child Trauma Response domain are exposed to trauma daily. This exposure often goes unprocessed or unexplored by both staff and organizational leadership. The impact of this secondary traumatic exposure often leads to a deterioration in the quality of care provided to clients and the effectiveness of the team. Therefore\, individuals working in such environments must be allowed to discuss their feelings and emotions regularly and consistently concerning the work they do. \nDuring this impactful in-person training we will also discuss how best to access up to three (3) mentoring/coaching calls delivered via video conferencing for relevant participants to enhance your skills. \nAbout the Speaker: Al Killen-Harvey\, an experienced Licensed Clinical Social Worker (LCSW) with over three decades of experience in the field\, is the president and co-founder of the Harvey Institute and a Lead Trainer at the Chadwick Center-Rady Children’s Hospital. Mr. Harvey is a renowned expert in consultation and training on various topics\, including Secondary Trauma\, LGBTQ issues\, Sexual Health\, Male Victims of Sexual Abuse\, and Trauma Treatment. Additionally\, he is registered with the California Board of Behavioral Sciences to provide Certified Educational Units (CEU’s) on a variety of topics\, including the mandated Clinical Supervision Training for LCSWs and MFTs. \nWhen: April 19\, 2024 \nTime: 9:00 to noon \nAddress: Monterey County DSS- Veteran’s Services Center\n2620 1st Avenue Marina\, CA 93933\n  (On-site parking) \nPhone: (831)769-8784 \nREGISTER BELOW\n\n                 \n \n                        Name(Required)\n                            \n                            \n                                                    \n                                                    First\n                                                \n                            \n                            \n                                                    \n                                                    Last\n                                                \n                            \n                        Title(Required)Email(Required)\n                            \n                        Contact Phone(Required)Type of Member(Required)MDT member or presenterCDRT member or presenterBothOtherOther(Required)Select Date(Required)April 19May 10BothCAPTCHA\n          \n            \n            \n            \n            \n            \n            \n            \n            \n            \n            \n            \n            \n            \n        \n                        Δ
URL:https://capcmonterey.org/event/child-trauma-response-in-person-training-april-19/
CATEGORIES:Community Training
END:VEVENT
BEGIN:VEVENT
DTSTART;TZID=America/Los_Angeles:20220429T120000
DTEND;TZID=America/Los_Angeles:20220429T130000
DTSTAMP:20260423T153415
CREATED:20220330T183821Z
LAST-MODIFIED:20220330T184721Z
UID:961-1651233600-1651237200@capcmonterey.org
SUMMARY:Victims dedication ceremony
DESCRIPTION:“Rights Access Equity for all Victims”
URL:https://capcmonterey.org/event/victims-dedication-ceremony/
LOCATION:Ceremony Location\, 142 W. Alisal Street\, Salinas\, CA\, 93901\, United States
CATEGORIES:Ceremony
END:VEVENT
BEGIN:VEVENT
DTSTART;TZID=America/Los_Angeles:20220401T080000
DTEND;TZID=America/Los_Angeles:20220401T170000
DTSTAMP:20260423T153415
CREATED:20210927T205653Z
LAST-MODIFIED:20210927T205653Z
UID:722-1648800000-1648832400@capcmonterey.org
SUMMARY:Cory Jewell Jensen
DESCRIPTION:Cory Jewell Jensen on offender behavior\, Contra Costa  \n– in person
URL:https://capcmonterey.org/event/cory-jewell-jensen/
END:VEVENT
BEGIN:VEVENT
DTSTART;TZID=America/Los_Angeles:20220101T080000
DTEND;TZID=America/Los_Angeles:20220228T170000
DTSTAMP:20260423T153415
CREATED:20210927T205458Z
LAST-MODIFIED:20210927T205458Z
UID:720-1641024000-1646067600@capcmonterey.org
SUMMARY:(Tentative) Kristen Stack
DESCRIPTION:Neglect: role of poverty and economic hardship in child maltreatment  \n– online
URL:https://capcmonterey.org/event/tentative-kristen-stack/
CATEGORIES:Community Training
END:VEVENT
BEGIN:VEVENT
DTSTART;TZID=America/Los_Angeles:20211118T080000
DTEND;TZID=America/Los_Angeles:20211118T170000
DTSTAMP:20260423T153415
CREATED:20210927T205124Z
LAST-MODIFIED:20210927T205124Z
UID:718-1637222400-1637254800@capcmonterey.org
SUMMARY:Dr. Jessica Pryce
DESCRIPTION:Dr. Jessica Pryce – Strengthening families using a racial equity lens AND promising practices for addressing racial disparity in child welfare \n–online
URL:https://capcmonterey.org/event/dr-jessica-pryce/
CATEGORIES:Mandated Reporter Training
END:VEVENT
BEGIN:VEVENT
DTSTART;VALUE=DATE:20211025
DTEND;VALUE=DATE:20220102
DTSTAMP:20260423T153415
CREATED:20211026T000901Z
LAST-MODIFIED:20211026T000913Z
UID:848-1635120000-1641081599@capcmonterey.org
SUMMARY:Ongoing training sessions from the California Training Institute
DESCRIPTION:Events | California Training Institute (caltrin.org)
URL:https://capcmonterey.org/event/ongoing-training-sessions-from-the-california-training-institute/
CATEGORIES:Community Training
END:VEVENT
END:VCALENDAR