
BEGIN:VCALENDAR
VERSION:2.0
PRODID:-//Monterey County Child Abuse Prevention Council - ECPv6.14.0//NONSGML v1.0//EN
CALSCALE:GREGORIAN
METHOD:PUBLISH
X-WR-CALNAME:Monterey County Child Abuse Prevention Council
X-ORIGINAL-URL:https://capcmonterey.org
X-WR-CALDESC:Events for Monterey County Child Abuse Prevention Council
REFRESH-INTERVAL;VALUE=DURATION:PT1H
X-Robots-Tag:noindex
X-PUBLISHED-TTL:PT1H
BEGIN:VTIMEZONE
TZID:America/Los_Angeles
BEGIN:DAYLIGHT
TZOFFSETFROM:-0800
TZOFFSETTO:-0700
TZNAME:PDT
DTSTART:20210314T100000
END:DAYLIGHT
BEGIN:STANDARD
TZOFFSETFROM:-0700
TZOFFSETTO:-0800
TZNAME:PST
DTSTART:20211107T090000
END:STANDARD
BEGIN:DAYLIGHT
TZOFFSETFROM:-0800
TZOFFSETTO:-0700
TZNAME:PDT
DTSTART:20220313T100000
END:DAYLIGHT
BEGIN:STANDARD
TZOFFSETFROM:-0700
TZOFFSETTO:-0800
TZNAME:PST
DTSTART:20221106T090000
END:STANDARD
END:VTIMEZONE
BEGIN:VEVENT
DTSTART;TZID=America/Los_Angeles:20220101T080000
DTEND;TZID=America/Los_Angeles:20220228T170000
DTSTAMP:20260423T103554
CREATED:20210927T205458Z
LAST-MODIFIED:20210927T205458Z
UID:720-1641024000-1646067600@capcmonterey.org
SUMMARY:(Tentative) Kristen Stack
DESCRIPTION:Neglect: role of poverty and economic hardship in child maltreatment  \n– online
URL:https://capcmonterey.org/event/tentative-kristen-stack/
CATEGORIES:Community Training
END:VEVENT
BEGIN:VEVENT
DTSTART;TZID=America/Los_Angeles:20211118T080000
DTEND;TZID=America/Los_Angeles:20211118T170000
DTSTAMP:20260423T103554
CREATED:20210927T205124Z
LAST-MODIFIED:20210927T205124Z
UID:718-1637222400-1637254800@capcmonterey.org
SUMMARY:Dr. Jessica Pryce
DESCRIPTION:Dr. Jessica Pryce – Strengthening families using a racial equity lens AND promising practices for addressing racial disparity in child welfare \n–online
URL:https://capcmonterey.org/event/dr-jessica-pryce/
CATEGORIES:Mandated Reporter Training
END:VEVENT
BEGIN:VEVENT
DTSTART;VALUE=DATE:20211025
DTEND;VALUE=DATE:20220102
DTSTAMP:20260423T103554
CREATED:20211026T000901Z
LAST-MODIFIED:20211026T000913Z
UID:848-1635120000-1641081599@capcmonterey.org
SUMMARY:Ongoing training sessions from the California Training Institute
DESCRIPTION:Events | California Training Institute (caltrin.org)
URL:https://capcmonterey.org/event/ongoing-training-sessions-from-the-california-training-institute/
CATEGORIES:Community Training
END:VEVENT
END:VCALENDAR